BEGIN:VCALENDAR
VERSION:2.0
PRODID:-//ExpressionEngine Easy iCalendar plugin//NONSGML v2.0.1//EN
X-WR-TIMEZONE:America/Chicago
X-WR-CALNAME:Upcoming Auctions
BEGIN:VEVENT
UID:76032
DTSTAMP:20220216T120000
DTSTART:20220216T120000
DTEND:20220216T130300
SUMMARY:ROTARY CLUB DESSERT AUCTION AT THE CARSON CENTER
LOCATION:100 Kentucky Ave\, Paducah\, KY 42001\, US
DESCRIPTION:UPCOMING ROTARY CLUB DESSERT AUCTION 
URL:https://www.rareauctions.com/auctions/detail/bw76032
SEQUENCE:1
END:VEVENT
END:VCALENDAR