BEGIN:VCALENDAR
VERSION:2.0
PRODID:-//ExpressionEngine Easy iCalendar plugin//NONSGML v2.0.1//EN
X-WR-TIMEZONE:America/Chicago
X-WR-CALNAME:Upcoming Auctions
BEGIN:VEVENT
UID:76443
DTSTAMP:20220428T100700
DTSTART:20220428T100700
DTEND:20220502T100700
SUMMARY:ONLINE ONLY GUN AUCTION
LOCATION:{location}
DESCRIPTION:LARGE GUN CONSIGNMENT
URL:https://www.rareauctions.com/auctions/detail/bw76443
SEQUENCE:1
END:VEVENT
END:VCALENDAR