BEGIN:VCALENDAR
VERSION:2.0
PRODID:-//ExpressionEngine Easy iCalendar plugin//NONSGML v2.0.1//EN
X-WR-TIMEZONE:America/Chicago
X-WR-CALNAME:Upcoming Auctions
BEGIN:VEVENT
UID:77652
DTSTAMP:20220414T090700
DTSTART:20220414T090700
DTEND:20220414T100700
SUMMARY:ABSOLUTE LIVING AUCTION 3460 BUCKNER LANE
LOCATION:3460 Buckner Lane\, Paducah\, KY 42001\, US
DESCRIPTION:+/-3300 Sq Ft. Under Roof  4 BR\, 2 1/2 Baths\, 2 Fireplaces\,
  Garage
URL:https://www.rareauctions.com/auctions/detail/bw77652
SEQUENCE:1
END:VEVENT
END:VCALENDAR