BEGIN:VCALENDAR
VERSION:2.0
PRODID:-//ExpressionEngine Easy iCalendar plugin//NONSGML v2.0.1//EN
X-WR-TIMEZONE:America/Chicago
X-WR-CALNAME:Upcoming Auctions
BEGIN:VEVENT
UID:79042
DTSTAMP:20220427T100700
DTSTART:20220427T100700
DTEND:20220427T110700
SUMMARY:ABSOLUTE LIVING ESTATE AUCTION 326 NORTH 9th STREET
LOCATION:326 North 9th Street\, Paducah\, KY 42001\, US
DESCRIPTION:AUCTION TODAY!
URL:https://www.rareauctions.com/auctions/detail/bw79042
SEQUENCE:1
END:VEVENT
END:VCALENDAR