BEGIN:VCALENDAR
VERSION:2.0
PRODID:-//ExpressionEngine Easy iCalendar plugin//NONSGML v2.0.1//EN
X-WR-TIMEZONE:America/Chicago
X-WR-CALNAME:Upcoming Auctions
BEGIN:VEVENT
UID:79848
DTSTAMP:20220519T100700
DTSTART:20220519T100700
DTEND:20220519T110700
SUMMARY:ABSOLUTE LIVING ESTATE AUCTION MCFARLAN ROAD CALVERT CITY\, K
 Y
LOCATION:4000 Olivet Church Road\, Paducah\, KY 42001\, US
DESCRIPTION:AUCTION ON THURSDAY
URL:https://www.rareauctions.com/auctions/detail/bw79848
SEQUENCE:1
END:VEVENT
END:VCALENDAR