BEGIN:VCALENDAR
VERSION:2.0
PRODID:-//ExpressionEngine Easy iCalendar plugin//NONSGML v2.0.1//EN
X-WR-TIMEZONE:America/Chicago
X-WR-CALNAME:Upcoming Auctions
BEGIN:VEVENT
UID:80251
DTSTAMP:20220505T100700
DTSTART:20220505T100700
DTEND:20220509T100700
SUMMARY:SPRING ONLINE ONLY AUCTION
LOCATION:4000 Olivet Church Road\, Paducah\, KY 42001\, US
DESCRIPTION:Ford Galaxie\, Diamond Rings\, Furniture\, Antiques\, Collectibl
 es\, and More!
URL:https://www.rareauctions.com/auctions/detail/bw80251
SEQUENCE:1
END:VEVENT
END:VCALENDAR