BEGIN:VCALENDAR
VERSION:2.0
PRODID:-//ExpressionEngine Easy iCalendar plugin//NONSGML v2.0.1//EN
X-WR-TIMEZONE:America/Chicago
X-WR-CALNAME:Upcoming Auctions
BEGIN:VEVENT
UID:80802
DTSTAMP:20220602T100700
DTSTART:20220602T100700
DTEND:20220606T100700
SUMMARY:JUNE ONLINE ONLY GUN AUCTION
LOCATION:4000 Olivet Church Rd.\, Paducah\, KY 42001\, US
DESCRIPTION:PREVIEW FRIDAY JUNE 3rd 3:07PM-5:07PM
URL:https://www.rareauctions.com/auctions/detail/bw80802
SEQUENCE:1
END:VEVENT
END:VCALENDAR