BEGIN:VCALENDAR
VERSION:2.0
PRODID:-//ExpressionEngine Easy iCalendar plugin//NONSGML v2.0.1//EN
X-WR-TIMEZONE:America/Chicago
X-WR-CALNAME:Upcoming Auctions
BEGIN:VEVENT
UID:81090
DTSTAMP:20220616T100700
DTSTART:20220616T100700
DTEND:20220616T110700
SUMMARY:ABSOLUTE ESTATE AUCTION 5951 KENTUCKY DAM ROAD
LOCATION:5951 Kentucky Dam Road\, Paducah\, KY 42001\, US
DESCRIPTION:ONSITE ABSOLUTE ESTATE AUCTION-MAJORITY HELD IN DOORS
URL:https://www.rareauctions.com/auctions/detail/bw81090
SEQUENCE:1
END:VEVENT
END:VCALENDAR