BEGIN:VCALENDAR
VERSION:2.0
PRODID:-//ExpressionEngine Easy iCalendar plugin//NONSGML v2.0.1//EN
X-WR-TIMEZONE:America/Chicago
X-WR-CALNAME:Upcoming Auctions
BEGIN:VEVENT
UID:81091
DTSTAMP:20220609T100700
DTSTART:20220609T100700
DTEND:20220615T100700
SUMMARY:ABSOLUTE ONLINE ONLY LAND AUCTION 1250 STARKE AVE
LOCATION:1250 Starke Ave\, Paducah\, KY 42001\, US
DESCRIPTION:ONLINE ONLY
URL:https://www.rareauctions.com/auctions/detail/bw81091
SEQUENCE:1
END:VEVENT
END:VCALENDAR