BEGIN:VCALENDAR
VERSION:2.0
PRODID:-//ExpressionEngine Easy iCalendar plugin//NONSGML v2.0.1//EN
X-WR-TIMEZONE:America/Chicago
X-WR-CALNAME:Upcoming Auctions
BEGIN:VEVENT
UID:81323
DTSTAMP:20220625T100000
DTSTART:20220625T100000
DTEND:20220625T110000
SUMMARY:ABSOLUTE LIVING ESTATE AUCTION 311 SOUTH ELM STREET BLUFORD\,
  IL
LOCATION:311 S. Elm Street\, Bluford\, IL 62814\, US
DESCRIPTION:RESIDENCE ON +/-4 ACRES
URL:https://www.rareauctions.com/auctions/detail/bw81323
SEQUENCE:1
END:VEVENT
END:VCALENDAR