BEGIN:VCALENDAR
VERSION:2.0
PRODID:-//ExpressionEngine Easy iCalendar plugin//NONSGML v2.0.1//EN
X-WR-TIMEZONE:America/Chicago
X-WR-CALNAME:Upcoming Auctions
BEGIN:VEVENT
UID:82331
DTSTAMP:20220623T100700
DTSTART:20220623T100700
DTEND:20220623T110700
SUMMARY:ABSOLUTE LIVING ESTATE AUCTION 430 BEASLEY ROAD
LOCATION:430 Beasley Road\, Hardin\, KY 42048\, US
DESCRIPTION:PIRATE'S COVE RESORT
URL:https://www.rareauctions.com/auctions/detail/bw82331
SEQUENCE:1
END:VEVENT
END:VCALENDAR