BEGIN:VCALENDAR
VERSION:2.0
PRODID:-//ExpressionEngine Easy iCalendar plugin//NONSGML v2.0.1//EN
X-WR-TIMEZONE:America/Chicago
X-WR-CALNAME:Upcoming Auctions
BEGIN:VEVENT
UID:83706
DTSTAMP:20220714T100700
DTSTART:20220714T100700
DTEND:20220714T110700
SUMMARY:ABSOLUTE REAL ESTATE AUCTION 3788 FRASER ROAD WICKLIFFE KENT
 UCKY
LOCATION:3788 Fraser Road\, Wickliffe\, KY 42087\, US
DESCRIPTION:GREAT FIXER UPPER
URL:https://www.rareauctions.com/auctions/detail/bw83706
SEQUENCE:1
END:VEVENT
END:VCALENDAR