BEGIN:VCALENDAR
VERSION:2.0
PRODID:-//ExpressionEngine Easy iCalendar plugin//NONSGML v2.0.1//EN
X-WR-TIMEZONE:America/Chicago
X-WR-CALNAME:Upcoming Auctions
BEGIN:VEVENT
UID:84333
DTSTAMP:20220728T100700
DTSTART:20220728T100700
DTEND:20220801T100700
SUMMARY:JULY ONLINE ESTATE AUCTION
LOCATION:4000 Olivet Church Road\, Paducah\, KY 42001\, US
DESCRIPTION:Diecast Model Cars\, Stoneware Crock Collection\, Furniture\, C
 hina\, Glassware\, & Much More!
URL:https://www.rareauctions.com/auctions/detail/bw84333
SEQUENCE:1
END:VEVENT
END:VCALENDAR