BEGIN:VCALENDAR
VERSION:2.0
PRODID:-//ExpressionEngine Easy iCalendar plugin//NONSGML v2.0.1//EN
X-WR-TIMEZONE:America/Chicago
X-WR-CALNAME:Upcoming Auctions
BEGIN:VEVENT
UID:85397
DTSTAMP:20220823T100700
DTSTART:20220823T100700
DTEND:20220823T110700
SUMMARY:ABSOLUTE AUCTION 2910 PARK AVE PADUCAH\, KY
LOCATION:2910 Park Ave\, Paducah\, KY 42001\, US
DESCRIPTION:AUCTION TODAY
URL:https://www.rareauctions.com/auctions/detail/bw85397
SEQUENCE:1
END:VEVENT
END:VCALENDAR