BEGIN:VCALENDAR
VERSION:2.0
PRODID:-//ExpressionEngine Easy iCalendar plugin//NONSGML v2.0.1//EN
X-WR-TIMEZONE:America/Chicago
X-WR-CALNAME:Upcoming Auctions
BEGIN:VEVENT
UID:85484
DTSTAMP:20220818T100700
DTSTART:20220818T100700
DTEND:20220818T110700
SUMMARY:ABSOLUTE ESTATE AUCTION 10153 HIGHWAY 62 CALVERT CITY\,KY
LOCATION:10153 Highway 62\, Calvert City\, KY 42029\, US
DESCRIPTION:AUCTION TODAY
URL:https://www.rareauctions.com/auctions/detail/bw85484
SEQUENCE:1
END:VEVENT
END:VCALENDAR