BEGIN:VCALENDAR
VERSION:2.0
PRODID:-//ExpressionEngine Easy iCalendar plugin//NONSGML v2.0.1//EN
X-WR-TIMEZONE:America/Chicago
X-WR-CALNAME:Upcoming Auctions
BEGIN:VEVENT
UID:85788
DTSTAMP:20220908T100700
DTSTART:20220908T100700
DTEND:20220908T110700
SUMMARY:ABSOLUTE ESTATE AUCTION 1066 BENTON BRIENSBURG ROAD BENTON\, 
 KY
LOCATION:1066 Benton Briensburg Road\, Benton\, KY 42025\, US
DESCRIPTION:ABSOLUTE ESTATE AUCTION SEPT. 8th 10:07AM 1066 BENTON BRIENS
 BURG ROAD BENTON\, KY Â  Â±74 YEAR Â±143.2 ACRE FAMILY FARM â
 €“ KENTUCKY LAKE AREA â€¢ +2.5 Miles to Draffenville\, Moors 
 Camp Hwy.\, Benton â€¢ Minutes to Purchase Parkway\, I-24\, I-6
 9\, Paducah â€¢ Â±31\, Â±6.9\, Â±6.6\, Â±7.5\, Â±7.5\, Â±13.4\, Â±1
 2.3\, Â±1.2\, Â±14.1\, Â±42.7 Acre Tracts â€¢ Â±3350 Ft. Road F
 rontage â€“City Water â€“ hunting\, horse farm\, cattle farm â
 €“ Homesites â€“ Game â€“ Timber â€“ Ponds â€“ Views â€¢ 2 B
 R 1 Bath Â±1000 SQ Ft. Home â€“ Full Basement on Â±1 acre â€
 “ Sells As Is. Auctioneerâ€™s Note: Nice cattlefarm history 
 over 100 head plus goats and horses. Unlike his dad\, the lat
 e Harold Higgins preferred cars and hunting over livestock. 
 Soon a used car dealer on Main Street with every kind of veh
 icleyou could imagine on the farm. Classics\, trucks\, tractor
 s\, boats\, and house trailers. Thatâ€™s all but history with 
 most of the vehicles gone or contracted to be removed. Aucti
 oneer's Note: Inspect to yoursatisfaction. Some salvage will
  remain for new owners to sell or dispose of as they see fit
 . Terms of Auction: 15% deposit day of Auction\; Balance with
 in 45 days â€“ A 10% Buyerâ€™s Premium will be added to the 
 final bids as included in the total contract prices. Propert
 y sells as-is. Survey split 50/50 Buyers/Sellers â€“ AUCTION
  HELD AT RARE AUCTION CENTER 4000 OLIVET CHURCH ROAD PADUCAH
 \, KY
URL:https://www.rareauctions.com/auctions/detail/bw85788
SEQUENCE:1
END:VEVENT
END:VCALENDAR