BEGIN:VCALENDAR
VERSION:2.0
PRODID:-//ExpressionEngine Easy iCalendar plugin//NONSGML v2.0.1//EN
X-WR-TIMEZONE:America/Chicago
X-WR-CALNAME:Upcoming Auctions
BEGIN:VEVENT
UID:86228
DTSTAMP:20220915T100700
DTSTART:20220915T100700
DTEND:20220915T110700
SUMMARY:ABSOLUTE ESTATE AUCTION 618 & 620 BROADWAY PADUCAH
LOCATION:618 Broadway\, Paducah\, KY 42001\, US
DESCRIPTION:Paducah's Legendary Central Photo in Downtown Paducah
URL:https://www.rareauctions.com/auctions/detail/bw86228
SEQUENCE:1
END:VEVENT
END:VCALENDAR