BEGIN:VCALENDAR
VERSION:2.0
PRODID:-//ExpressionEngine Easy iCalendar plugin//NONSGML v2.0.1//EN
X-WR-TIMEZONE:America/Chicago
X-WR-CALNAME:Upcoming Auctions
BEGIN:VEVENT
UID:88581
DTSTAMP:20220929T140700
DTSTART:20220929T140700
DTEND:20220929T150700
SUMMARY:ABSOLUTE ESTATE AUCTION 4611 EPPERSON ROAD
LOCATION:4611 Epperson Road\, Paducah\, KY 42001\, US
DESCRIPTION:PERFECT STARTER HOME
URL:https://www.rareauctions.com/auctions/detail/bw88581
SEQUENCE:1
END:VEVENT
END:VCALENDAR