BEGIN:VCALENDAR
VERSION:2.0
PRODID:-//ExpressionEngine Easy iCalendar plugin//NONSGML v2.0.1//EN
X-WR-TIMEZONE:America/Chicago
X-WR-CALNAME:Upcoming Auctions
BEGIN:VEVENT
UID:88583
DTSTAMP:20220929T150700
DTSTART:20220929T150700
DTEND:20220929T160700
SUMMARY:ABSOLUTE ESTATE AUCTION 1007 HILL STREET
LOCATION:1007 Hill Street\, Paducah\, KY 42001\, US
DESCRIPTION:GREAT LOCATION
URL:https://www.rareauctions.com/auctions/detail/bw88583
SEQUENCE:1
END:VEVENT
END:VCALENDAR