BEGIN:VCALENDAR
VERSION:2.0
PRODID:-//ExpressionEngine Easy iCalendar plugin//NONSGML v2.0.1//EN
X-WR-TIMEZONE:America/Chicago
X-WR-CALNAME:Upcoming Auctions
BEGIN:VEVENT
UID:88586
DTSTAMP:20220929T100700
DTSTART:20220929T100700
DTEND:20220929T110700
SUMMARY:ABSOLUTE AUCTION 2500 PARK AVE
LOCATION:2500 Park Ave\, Paducah\, KY 42001\, US
DESCRIPTION:GREAT BUSINESS OPPORTUNITY
URL:https://www.rareauctions.com/auctions/detail/bw88586
SEQUENCE:1
END:VEVENT
END:VCALENDAR