BEGIN:VCALENDAR
VERSION:2.0
PRODID:-//ExpressionEngine Easy iCalendar plugin//NONSGML v2.0.1//EN
X-WR-TIMEZONE:America/Chicago
X-WR-CALNAME:Upcoming Auctions
BEGIN:VEVENT
UID:89027
DTSTAMP:20221006T100700
DTSTART:20221006T100700
DTEND:20221010T100700
SUMMARY:FALL ONLINE ONLY AUCTION
LOCATION:4000 Olivet Church Road\, Paducah\, KY 42001\, US
DESCRIPTION:MULTIPLE ESTATES
URL:https://www.rareauctions.com/auctions/detail/bw89027
SEQUENCE:1
END:VEVENT
END:VCALENDAR