BEGIN:VCALENDAR
VERSION:2.0
PRODID:-//ExpressionEngine Easy iCalendar plugin//NONSGML v2.0.1//EN
X-WR-TIMEZONE:America/Chicago
X-WR-CALNAME:Upcoming Auctions
BEGIN:VEVENT
UID:89791
DTSTAMP:20221020T170700
DTSTART:20221020T170700
DTEND:20221020T180700
SUMMARY:ABSOLUTE AUCTION 1204 MAIN STREET BENTON KENTUCKY
LOCATION:1204 Main Street\, Benton\, KY 42025\, US
DESCRIPTION:AMAZING BUSINESS POTENTIAL
URL:https://www.rareauctions.com/auctions/detail/bw89791
SEQUENCE:1
END:VEVENT
END:VCALENDAR