BEGIN:VCALENDAR
VERSION:2.0
PRODID:-//ExpressionEngine Easy iCalendar plugin//NONSGML v2.0.1//EN
X-WR-TIMEZONE:America/Chicago
X-WR-CALNAME:Upcoming Auctions
BEGIN:VEVENT
UID:90151
DTSTAMP:20221025T100700
DTSTART:20221025T100700
DTEND:20221025T110700
SUMMARY:ABSOLUTE RETIREMENT AUCTION - 619 FERRY STREET & 106 W. 7TH 
 STREET METROPOLIS\, IL
LOCATION:619 Ferry Street\, Metropolis\, IL 62960\, US
DESCRIPTION:LIQUIDATION AUCTION
URL:https://www.rareauctions.com/auctions/detail/bw90151
SEQUENCE:1
END:VEVENT
END:VCALENDAR