BEGIN:VCALENDAR
VERSION:2.0
PRODID:-//ExpressionEngine Easy iCalendar plugin//NONSGML v2.0.1//EN
X-WR-TIMEZONE:America/Chicago
X-WR-CALNAME:Upcoming Auctions
BEGIN:VEVENT
UID:90547
DTSTAMP:20221103T100700
DTSTART:20221103T100700
DTEND:20221103T110700
SUMMARY:ABSOLUTE AUCTION 693 WADESBORO ROAD PADUCAH\, KY
LOCATION:693 WADESBORO ROAD\, PADUCAH\, KY 42001\, US
DESCRIPTION:AMAZING HUNTING PROPERTY
URL:https://www.rareauctions.com/auctions/detail/bw90547
SEQUENCE:1
END:VEVENT
END:VCALENDAR