BEGIN:VCALENDAR
VERSION:2.0
PRODID:-//ExpressionEngine Easy iCalendar plugin//NONSGML v2.0.1//EN
X-WR-TIMEZONE:America/Chicago
X-WR-CALNAME:Upcoming Auctions
BEGIN:VEVENT
UID:90867
DTSTAMP:20221108T100700
DTSTART:20221108T100700
DTEND:20221108T110700
SUMMARY:ABSOLUTE AUCTION 4015 MAXON ROAD
LOCATION:4015 MAXON ROAD\, PADUCAH\, KY 42001\, US
DESCRIPTION:2 TRACTS
URL:https://www.rareauctions.com/auctions/detail/bw90867
SEQUENCE:1
END:VEVENT
END:VCALENDAR