BEGIN:VCALENDAR
VERSION:2.0
PRODID:-//ExpressionEngine Easy iCalendar plugin//NONSGML v2.0.1//EN
X-WR-TIMEZONE:America/Chicago
X-WR-CALNAME:Upcoming Auctions
BEGIN:VEVENT
UID:91734
DTSTAMP:20221103T100700
DTSTART:20221103T100700
DTEND:20221110T100700
SUMMARY:ONLINE ONLY CLASSIC CAR AUCTION
LOCATION:4000 Olivet Church Road\, Paducah\, KY 42001\, US
DESCRIPTION:RARE Auction Group Rare & Classic Vehicle Auction ONLINE ONL
 Y RARE Auction Center 4000 Olivet Church Road Paducah\, KY  
  10% Buyer’s Premium Added to Final Bids See rareauctions.
 com for Complete Terms   Open to Individuals & Dealers   T
 erms of Auction: Cash or Cashier’s Check Only Vehicles nee
 d to be paid for by 4pm on Friday November 11th
URL:https://www.rareauctions.com/auctions/detail/bw91734
SEQUENCE:1
END:VEVENT
END:VCALENDAR