BEGIN:VCALENDAR
VERSION:2.0
PRODID:-//ExpressionEngine Easy iCalendar plugin//NONSGML v2.0.1//EN
X-WR-TIMEZONE:America/Chicago
X-WR-CALNAME:Upcoming Auctions
BEGIN:VEVENT
UID:92152
DTSTAMP:20221201T100700
DTSTART:20221201T100700
DTEND:20221201T110700
SUMMARY:ABSOLUTE AUCTION 106 CEDAR STREET KUTTAWA\, KY
LOCATION:106 CEDAR STREET\, KUTTAWA\, KY 42055\, US
DESCRIPTION:SEPERATE OR COMBINED TRACTS
URL:https://www.rareauctions.com/auctions/detail/bw92152
SEQUENCE:1
END:VEVENT
END:VCALENDAR