BEGIN:VCALENDAR
VERSION:2.0
PRODID:-//ExpressionEngine Easy iCalendar plugin//NONSGML v2.0.1//EN
X-WR-TIMEZONE:America/Chicago
X-WR-CALNAME:Upcoming Auctions
BEGIN:VEVENT
UID:92157
DTSTAMP:20221201T100700
DTSTART:20221201T100700
DTEND:20221205T100700
SUMMARY:ONLINE ONLY GUN AND SPORT AUCTION
LOCATION:4000 Olivet Church Road\, Paducah\, KY 42001\, US
DESCRIPTION:ONLINE ONLY GUN AUCTION Thurs.\, Dec 1\, 2022 • Beginning a
 t10:07AM 4000 Olivet Church Road Paducah\, KY 42001 ONLINE ON
 LY GUN AND SPORT AUCTION! WE DO THE PAPERWORK! PREVIEW: FRI
 DAY\, DECEMBER 2ND FROM 3:07PM-5:07PM PICKUP: TUESDAY\, DECEMB
 ER 6th FROM 3:07PM-5:07PM *PICKUP FOR FIREARMS WILL BE SCHE
 DULED SEPARATELY AND A PICKUP SIGN UP SHEET WILL BE SENT TO 
 GUN WINNERS.
URL:https://www.rareauctions.com/auctions/detail/bw92157
SEQUENCE:1
END:VEVENT
END:VCALENDAR