BEGIN:VCALENDAR
VERSION:2.0
PRODID:-//ExpressionEngine Easy iCalendar plugin//NONSGML v2.0.1//EN
X-WR-TIMEZONE:America/Chicago
X-WR-CALNAME:Upcoming Auctions
BEGIN:VEVENT
UID:92158
DTSTAMP:20221229T100700
DTSTART:20221229T100700
DTEND:20221229T103700
SUMMARY:ANNUAL CONSIGNMENT AUCTION DEC. 29TH 10:07AM
LOCATION:4000 Olivet Church Road\, Paducah\, KY 42001\, US
DESCRIPTION:RAC 4000 OLIVET CHURCH ROAD PADUCAH
URL:https://www.rareauctions.com/auctions/detail/bw92158
SEQUENCE:1
END:VEVENT
END:VCALENDAR