BEGIN:VCALENDAR
VERSION:2.0
PRODID:-//ExpressionEngine Easy iCalendar plugin//NONSGML v2.0.1//EN
X-WR-TIMEZONE:America/Chicago
X-WR-CALNAME:Upcoming Auctions
BEGIN:VEVENT
UID:94761
DTSTAMP:20230202T100700
DTSTART:20230202T100700
DTEND:20230202T110700
SUMMARY:ABSOLUTE ESTATE AUCTION • UNIONVILLE ROAD • BROOKPORT\, I
 L
LOCATION:Unionville Road\, Brookport\, IL 62910\, US
DESCRIPTION:OFFERED IN SEPARATE OR COMBINED TRACTS
URL:https://www.rareauctions.com/auctions/detail/bw94761
SEQUENCE:1
END:VEVENT
END:VCALENDAR