BEGIN:VCALENDAR
VERSION:2.0
PRODID:-//ExpressionEngine Easy iCalendar plugin//NONSGML v2.0.1//EN
X-WR-TIMEZONE:America/Chicago
X-WR-CALNAME:Upcoming Auctions
BEGIN:VEVENT
UID:94763
DTSTAMP:20230209T100700
DTSTART:20230209T100700
DTEND:20230213T100700
SUMMARY:ONLINE CONSIGNMENT AUCTION
LOCATION:4000 Olivet Church Road\, Paducah\, KY 42001\, US
DESCRIPTION:GUNS\; SPORTING GOODS\; ARROWHEADS\; KNIVES\; COINS\; & MORE
 !
URL:https://www.rareauctions.com/auctions/detail/bw94763
SEQUENCE:1
END:VEVENT
END:VCALENDAR