BEGIN:VCALENDAR
VERSION:2.0
PRODID:-//ExpressionEngine Easy iCalendar plugin//NONSGML v2.0.1//EN
X-WR-TIMEZONE:America/Chicago
X-WR-CALNAME:Upcoming Auctions
BEGIN:VEVENT
UID:94767
DTSTAMP:20230506T100700
DTSTART:20230506T100700
DTEND:20230506T110700
SUMMARY:CLASSIC CAR AUCTION
LOCATION:4000 Olivet Church Road\, Paducah\, KY 42001\, US
DESCRIPTION:CARS\; TRUCKS\; MOTORCYCLES\; & MORE!
URL:https://www.rareauctions.com/auctions/detail/bw94767
SEQUENCE:1
END:VEVENT
END:VCALENDAR