BEGIN:VCALENDAR
VERSION:2.0
PRODID:-//ExpressionEngine Easy iCalendar plugin//NONSGML v2.0.1//EN
X-WR-TIMEZONE:America/Chicago
X-WR-CALNAME:Upcoming Auctions
BEGIN:VEVENT
UID:96953
DTSTAMP:20230303T183000
DTSTART:20230303T183000
DTEND:20230303T193000
SUMMARY:Murder Mystery Fundraiser Benefitting Freedom Forever Minist
 ries
LOCATION:2890 Broadway Street\, Paducah\, KY 42001\, US
DESCRIPTION:A Murder Mystery Fundraiser to benefit Freedom Forever Minis
 try
URL:https://www.rareauctions.com/auctions/detail/bw96953
SEQUENCE:1
END:VEVENT
END:VCALENDAR