BEGIN:VCALENDAR
VERSION:2.0
PRODID:-//ExpressionEngine Easy iCalendar plugin//NONSGML v2.0.1//EN
X-WR-TIMEZONE:America/Chicago
X-WR-CALNAME:Upcoming Auctions
BEGIN:VEVENT
UID:97135
DTSTAMP:20230323T100700
DTSTART:20230323T100700
DTEND:20230323T110700
SUMMARY:Absolute Liquidation Auction - New China Restaurant
LOCATION:3216 Irvin Cobb Drive\, Paducah\, KY 42003\, US
DESCRIPTION:Absolute Liquidation Auction of New China Restaurant next to
  Southside Walmart
URL:https://www.rareauctions.com/auctions/detail/bw97135
SEQUENCE:1
END:VEVENT
END:VCALENDAR