BEGIN:VCALENDAR
VERSION:2.0
PRODID:-//ExpressionEngine Easy iCalendar plugin//NONSGML v2.0.1//EN
X-WR-TIMEZONE:America/Chicago
X-WR-CALNAME:Upcoming Auctions
BEGIN:VEVENT
UID:98107
DTSTAMP:20230413T100700
DTSTART:20230413T100700
DTEND:20230413T110700
SUMMARY:ABSOLUTE ESTATE AUCTION • 2359 KY 994\, BOAZ\, KY
LOCATION:2359 KY-994\, Boaz\, KY 42027\, US
DESCRIPTION:Gary and Sherion Faughn Estate
URL:https://www.rareauctions.com/auctions/detail/bw98107
SEQUENCE:1
END:VEVENT
END:VCALENDAR