BEGIN:VCALENDAR
VERSION:2.0
PRODID:-//ExpressionEngine Easy iCalendar plugin//NONSGML v2.0.1//EN
X-WR-TIMEZONE:America/Chicago
X-WR-CALNAME:Upcoming Auctions
BEGIN:VEVENT
UID:98281
DTSTAMP:20230330T100700
DTSTART:20230330T100700
DTEND:20230406T100700
SUMMARY:Absolute Online Only 2016 31V Jayco Alante Motor Home
LOCATION:4000 Olivet Church Rd.\, Paducah\, KY 42001\, US
DESCRIPTION:2016 31V Jayco Alante - Fully Loaded Motor Home!
URL:https://www.rareauctions.com/auctions/detail/bw98281
SEQUENCE:1
END:VEVENT
END:VCALENDAR